BEGIN:VCALENDAR
VERSION:2.0
PRODID:-//hacksw/handcal//NONSGML v1.0//EN
BEGIN:VEVENT
SUMMARY:MATCH U13
UID:1b2cf681-726b-4ea7-af86-11aa04a7a4c9
DTSTART:20260426T080000Z
DTEND:20260426T220000Z
LOCATION:Localisation GYMNASE MICHAEL GELABALE 97116 POINTE NOIRE
CATEGORIES:Sportif
STATUS:
URL;VALUE=URI:https://www.jiscbasket.com/evenements/2026/04/26/match-u13-2351921
END:VEVENT
END:VCALENDAR
