BEGIN:VCALENDAR
VERSION:2.0
PRODID:-//hacksw/handcal//NONSGML v1.0//EN
BEGIN:VEVENT
SUMMARY:MATCH U13
UID:6a802739-8511-4b49-9e54-be89ef77b92b
DTSTART:20260422T140000Z
DTEND:20260422T220000Z
LOCATION:Localisation PLAINE GRAND CAMP 97139 ABYMES
CATEGORIES:Sportif
STATUS:
URL;VALUE=URI:https://www.jiscbasket.com/evenements/2026/04/22/match-u13-2351922
END:VEVENT
END:VCALENDAR
